BEGIN:VCALENDAR
VERSION:2.0
PRODID:-//AED Professionals - ECPv6.15.20//NONSGML v1.0//EN
CALSCALE:GREGORIAN
METHOD:PUBLISH
X-ORIGINAL-URL:https://www.aed-professionals.nl
X-WR-CALDESC:Evenementen voor AED Professionals
REFRESH-INTERVAL;VALUE=DURATION:PT1H
X-Robots-Tag:noindex
X-PUBLISHED-TTL:PT1H
BEGIN:VTIMEZONE
TZID:Europe/Amsterdam
BEGIN:DAYLIGHT
TZOFFSETFROM:+0100
TZOFFSETTO:+0200
TZNAME:CEST
DTSTART:20240331T010000
END:DAYLIGHT
BEGIN:STANDARD
TZOFFSETFROM:+0200
TZOFFSETTO:+0100
TZNAME:CET
DTSTART:20241027T010000
END:STANDARD
BEGIN:DAYLIGHT
TZOFFSETFROM:+0100
TZOFFSETTO:+0200
TZNAME:CEST
DTSTART:20250330T010000
END:DAYLIGHT
BEGIN:STANDARD
TZOFFSETFROM:+0200
TZOFFSETTO:+0100
TZNAME:CET
DTSTART:20251026T010000
END:STANDARD
BEGIN:DAYLIGHT
TZOFFSETFROM:+0100
TZOFFSETTO:+0200
TZNAME:CEST
DTSTART:20260329T010000
END:DAYLIGHT
BEGIN:STANDARD
TZOFFSETFROM:+0200
TZOFFSETTO:+0100
TZNAME:CET
DTSTART:20261025T010000
END:STANDARD
END:VTIMEZONE
BEGIN:VEVENT
DTSTART;TZID=Europe/Amsterdam:20250523T090000
DTEND;TZID=Europe/Amsterdam:20250523T120000
DTSTAMP:20260422T104150
CREATED:20250226T201231Z
LAST-MODIFIED:20250226T201231Z
UID:10003325-1747990800-1748001600@www.aed-professionals.nl
SUMMARY:EHBO- & AED cursus Groningen
DESCRIPTION:
URL:https://www.aed-professionals.nl/training/ehbo-aed-cursus-groningen-12/
LOCATION:Groningen-Bedum\, Industrieweg 7\, Bedum\, 9781 HB
CATEGORIES:EHBO & AED-cursus,EHBO herhalingscursus,EHBO-cursus Groningen
END:VEVENT
BEGIN:VEVENT
DTSTART;TZID=Europe/Amsterdam:20250527T090000
DTEND;TZID=Europe/Amsterdam:20250527T120000
DTSTAMP:20260422T104150
CREATED:20250421T125629Z
LAST-MODIFIED:20250421T125629Z
UID:10003355-1748336400-1748347200@www.aed-professionals.nl
SUMMARY:EHBO- & AED cursus Groningen
DESCRIPTION:
URL:https://www.aed-professionals.nl/training/ehbo-aed-cursus-groningen-13/
LOCATION:Groningen-Bedum\, Industrieweg 7\, Bedum\, 9781 HB
CATEGORIES:EHBO & AED-cursus,EHBO herhalingscursus,EHBO-cursus Groningen
END:VEVENT
BEGIN:VEVENT
DTSTART;TZID=Europe/Amsterdam:20250602T130000
DTEND;TZID=Europe/Amsterdam:20250602T160000
DTSTAMP:20260422T104150
CREATED:20240828T085433Z
LAST-MODIFIED:20241014T160458Z
UID:10003102-1748869200-1748880000@www.aed-professionals.nl
SUMMARY:EHBO- & AED cursus Utrecht
DESCRIPTION:
URL:https://www.aed-professionals.nl/training/ehbo-aed-cursus-utrecht-6/
LOCATION:Utrecht\, Zonnebaan 9-21\, Utrecht\, 3542 EA
CATEGORIES:EHBO & AED-cursus,EHBO herhalingscursus,EHBO-cursus Utrecht
END:VEVENT
BEGIN:VEVENT
DTSTART;TZID=Europe/Amsterdam:20250603T090000
DTEND;TZID=Europe/Amsterdam:20250603T120000
DTSTAMP:20260422T104150
CREATED:20240828T095121Z
LAST-MODIFIED:20241014T160547Z
UID:10003105-1748941200-1748952000@www.aed-professionals.nl
SUMMARY:EHBO- & AED cursus Weert
DESCRIPTION:
URL:https://www.aed-professionals.nl/training/ehbo-aed-cursus-weert-3/
LOCATION:Limburg- Weert\, Graafschap Hornelaan 180\, Weert\, 6004 HT
CATEGORIES:EHBO & AED-cursus,EHBO herhalingscursus,EHBO-cursus Limburg
END:VEVENT
BEGIN:VEVENT
DTSTART;TZID=Europe/Amsterdam:20250604T090000
DTEND;TZID=Europe/Amsterdam:20250604T120000
DTSTAMP:20260422T104150
CREATED:20250421T132933Z
LAST-MODIFIED:20250421T132933Z
UID:10003358-1749027600-1749038400@www.aed-professionals.nl
SUMMARY:EHBO- & AED cursus Groningen
DESCRIPTION:
URL:https://www.aed-professionals.nl/training/ehbo-aed-cursus-groningen-14/
LOCATION:Groningen-Bedum\, Industrieweg 7\, Bedum\, 9781 HB
CATEGORIES:EHBO & AED-cursus,EHBO herhalingscursus,EHBO-cursus Groningen
END:VEVENT
BEGIN:VEVENT
DTSTART;TZID=Europe/Amsterdam:20250606T090000
DTEND;TZID=Europe/Amsterdam:20250606T120000
DTSTAMP:20260422T104150
CREATED:20250401T082906Z
LAST-MODIFIED:20250401T082906Z
UID:10003349-1749200400-1749211200@www.aed-professionals.nl
SUMMARY:First-Aid- & CPR training Weert
DESCRIPTION:
URL:https://www.aed-professionals.nl/training/first-aid-cpr-training-weert/
LOCATION:Limburg- Weert\, Graafschap Hornelaan 180\, Weert\, 6004 HT
CATEGORIES:EHBO & AED-cursus,EHBO herhalingscursus,EHBO-cursus Limburg
END:VEVENT
BEGIN:VEVENT
DTSTART;TZID=Europe/Amsterdam:20250610T090000
DTEND;TZID=Europe/Amsterdam:20250610T120000
DTSTAMP:20260422T104150
CREATED:20250421T133226Z
LAST-MODIFIED:20250421T133226Z
UID:10003361-1749546000-1749556800@www.aed-professionals.nl
SUMMARY:EHBO- & AED cursus Groningen
DESCRIPTION:
URL:https://www.aed-professionals.nl/training/ehbo-aed-cursus-groningen-15/
LOCATION:Groningen-Bedum\, Industrieweg 7\, Bedum\, 9781 HB
CATEGORIES:EHBO & AED-cursus,EHBO herhalingscursus,EHBO-cursus Groningen
END:VEVENT
BEGIN:VEVENT
DTSTART;TZID=Europe/Amsterdam:20250610T120000
DTEND;TZID=Europe/Amsterdam:20250610T150000
DTSTAMP:20260422T104150
CREATED:20240828T095810Z
LAST-MODIFIED:20241218T100116Z
UID:10003111-1749556800-1749567600@www.aed-professionals.nl
SUMMARY:EHBO- & AED cursus Amsterdam
DESCRIPTION:
URL:https://www.aed-professionals.nl/training/ehbo-aed-cursus-weesp-10/
LOCATION:Amsterdam\, clubhuis a.s.c. de Volewijckers in Amsterdam\, Baron de Coubertinlaan 6\, Amsterdam\, 1034ZK
CATEGORIES:EHBO & AED-cursus,EHBO herhalingscursus,EHBO-cursus Amsterdam
END:VEVENT
BEGIN:VEVENT
DTSTART;TZID=Europe/Amsterdam:20250611T090000
DTEND;TZID=Europe/Amsterdam:20250611T120000
DTSTAMP:20260422T104150
CREATED:20240828T100102Z
LAST-MODIFIED:20241014T160935Z
UID:10003114-1749632400-1749643200@www.aed-professionals.nl
SUMMARY:EHBO- & AED cursus Apeldoorn
DESCRIPTION:
URL:https://www.aed-professionals.nl/training/ehbo-aed-cursus-apeldoorn-6/
LOCATION:Apeldoorn\, De Voorwaarts 450\,\, 7321 MG\, Nederland
CATEGORIES:EHBO & AED-cursus,EHBO herhalingscursus,EHBO- cursus Apeldoorn
END:VEVENT
BEGIN:VEVENT
DTSTART;TZID=Europe/Amsterdam:20250613T130000
DTEND;TZID=Europe/Amsterdam:20250613T160000
DTSTAMP:20260422T104150
CREATED:20241218T092538Z
LAST-MODIFIED:20250129T135312Z
UID:10003271-1749819600-1749830400@www.aed-professionals.nl
SUMMARY:EHBO- & AED cursus Rotterdam
DESCRIPTION:
URL:https://www.aed-professionals.nl/training/ehbo-aed-cursus-rotterdam-6/
LOCATION:Rotterdam- Barendrecht\, Dierensteinweg 6B\, Barendrecht\, Zuid-Holland\, 2991 XJ
CATEGORIES:EHBO & AED-cursus,EHBO herhalingscursus,EHBO-cursus Rotterdam
END:VEVENT
BEGIN:VEVENT
DTSTART;TZID=Europe/Amsterdam:20250616T090000
DTEND;TZID=Europe/Amsterdam:20250616T120000
DTSTAMP:20260422T104150
CREATED:20250421T133612Z
LAST-MODIFIED:20250421T133612Z
UID:10003364-1750064400-1750075200@www.aed-professionals.nl
SUMMARY:EHBO- & AED cursus Groningen
DESCRIPTION:
URL:https://www.aed-professionals.nl/training/ehbo-aed-cursus-groningen-16/
LOCATION:Groningen-Bedum\, Industrieweg 7\, Bedum\, 9781 HB
CATEGORIES:EHBO & AED-cursus,EHBO herhalingscursus,EHBO-cursus Groningen
END:VEVENT
BEGIN:VEVENT
DTSTART;TZID=Europe/Amsterdam:20250618T090000
DTEND;TZID=Europe/Amsterdam:20250618T120000
DTSTAMP:20260422T104150
CREATED:20240828T100424Z
LAST-MODIFIED:20241014T161048Z
UID:10003117-1750237200-1750248000@www.aed-professionals.nl
SUMMARY:EHBO- & AED cursus Weert
DESCRIPTION:
URL:https://www.aed-professionals.nl/training/ehbo-aed-cursus-weert-4/
LOCATION:Limburg- Weert\, Graafschap Hornelaan 180\, Weert\, 6004 HT
CATEGORIES:EHBO & AED-cursus,EHBO herhalingscursus,EHBO-cursus Limburg
END:VEVENT
BEGIN:VEVENT
DTSTART;TZID=Europe/Amsterdam:20250619T090000
DTEND;TZID=Europe/Amsterdam:20250619T120000
DTSTAMP:20260422T104150
CREATED:20250421T133910Z
LAST-MODIFIED:20250421T133924Z
UID:10003367-1750323600-1750334400@www.aed-professionals.nl
SUMMARY:EHBO- & AED cursus Groningen
DESCRIPTION:
URL:https://www.aed-professionals.nl/training/ehbo-aed-cursus-groningen-17/
LOCATION:Groningen-Bedum\, Industrieweg 7\, Bedum\, 9781 HB
CATEGORIES:EHBO & AED-cursus,EHBO herhalingscursus,EHBO-cursus Groningen
END:VEVENT
BEGIN:VEVENT
DTSTART;TZID=Europe/Amsterdam:20250620T083000
DTEND;TZID=Europe/Amsterdam:20250620T113000
DTSTAMP:20260422T104150
CREATED:20240828T100730Z
LAST-MODIFIED:20241014T161308Z
UID:10003120-1750408200-1750419000@www.aed-professionals.nl
SUMMARY:EHBO- & AED cursus Amsterdam
DESCRIPTION:
URL:https://www.aed-professionals.nl/training/ehbo-aed-cursus-amsterdam-10/
LOCATION:Amsterdam\, clubhuis a.s.c. de Volewijckers in Amsterdam\, Baron de Coubertinlaan 6\, Amsterdam\, 1034ZK
CATEGORIES:EHBO & AED-cursus,EHBO herhalingscursus,EHBO-cursus Amsterdam
END:VEVENT
BEGIN:VEVENT
DTSTART;TZID=Europe/Amsterdam:20250620T090000
DTEND;TZID=Europe/Amsterdam:20250620T120000
DTSTAMP:20260422T104150
CREATED:20250421T134232Z
LAST-MODIFIED:20250421T134232Z
UID:10003370-1750410000-1750420800@www.aed-professionals.nl
SUMMARY:EHBO- & AED cursus Groningen
DESCRIPTION:
URL:https://www.aed-professionals.nl/training/ehbo-aed-cursus-groningen-18/
LOCATION:Groningen-Bedum\, Industrieweg 7\, Bedum\, 9781 HB
CATEGORIES:EHBO & AED-cursus,EHBO herhalingscursus,EHBO-cursus Groningen
END:VEVENT
BEGIN:VEVENT
DTSTART;TZID=Europe/Amsterdam:20250623T090000
DTEND;TZID=Europe/Amsterdam:20250623T120000
DTSTAMP:20260422T104150
CREATED:20250421T134516Z
LAST-MODIFIED:20250421T134516Z
UID:10003373-1750669200-1750680000@www.aed-professionals.nl
SUMMARY:EHBO- & AED cursus Groningen
DESCRIPTION:
URL:https://www.aed-professionals.nl/training/ehbo-aed-cursus-groningen-19/
LOCATION:Groningen-Bedum\, Industrieweg 7\, Bedum\, 9781 HB
CATEGORIES:EHBO & AED-cursus,EHBO herhalingscursus,EHBO-cursus Groningen
END:VEVENT
BEGIN:VEVENT
DTSTART;TZID=Europe/Amsterdam:20250624T090000
DTEND;TZID=Europe/Amsterdam:20250624T120000
DTSTAMP:20260422T104150
CREATED:20240828T105238Z
LAST-MODIFIED:20241014T161416Z
UID:10003123-1750755600-1750766400@www.aed-professionals.nl
SUMMARY:EHBO- & AED cursus Uden
DESCRIPTION:
URL:https://www.aed-professionals.nl/training/ehbo-aed-cursus-uden/
LOCATION:Brabant- Uden\, Frontstraat 2\, Uden\, 5405 PB
CATEGORIES:EHBO & AED-cursus,EHBO cursus Uden,EHBO herhalingscursus
END:VEVENT
BEGIN:VEVENT
DTSTART;TZID=Europe/Amsterdam:20250627T090000
DTEND;TZID=Europe/Amsterdam:20250627T120000
DTSTAMP:20260422T104150
CREATED:20250421T134819Z
LAST-MODIFIED:20250421T134819Z
UID:10003376-1751014800-1751025600@www.aed-professionals.nl
SUMMARY:EHBO- & AED cursus Groningen
DESCRIPTION:
URL:https://www.aed-professionals.nl/training/ehbo-aed-cursus-groningen-20/
LOCATION:Groningen-Bedum\, Industrieweg 7\, Bedum\, 9781 HB
CATEGORIES:EHBO & AED-cursus,EHBO herhalingscursus,EHBO-cursus Groningen
END:VEVENT
BEGIN:VEVENT
DTSTART;TZID=Europe/Amsterdam:20250701T090000
DTEND;TZID=Europe/Amsterdam:20250701T120000
DTSTAMP:20260422T104150
CREATED:20240828T110955Z
LAST-MODIFIED:20241014T163533Z
UID:10003129-1751360400-1751371200@www.aed-professionals.nl
SUMMARY:EHBO- & AED cursus Weert
DESCRIPTION:
URL:https://www.aed-professionals.nl/training/ehbo-aed-cursus-weert-5/
LOCATION:Limburg- Weert\, Graafschap Hornelaan 180\, Weert\, 6004 HT
CATEGORIES:EHBO & AED-cursus,EHBO herhalingscursus,EHBO-cursus Limburg
END:VEVENT
BEGIN:VEVENT
DTSTART;TZID=Europe/Amsterdam:20250702T090000
DTEND;TZID=Europe/Amsterdam:20250702T120000
DTSTAMP:20260422T104150
CREATED:20250421T150812Z
LAST-MODIFIED:20250421T150812Z
UID:10003379-1751446800-1751457600@www.aed-professionals.nl
SUMMARY:EHBO- & AED cursus Groningen
DESCRIPTION:
URL:https://www.aed-professionals.nl/training/ehbo-aed-cursus-groningen-21/
LOCATION:Groningen-Bedum\, Industrieweg 7\, Bedum\, 9781 HB
CATEGORIES:EHBO & AED-cursus,EHBO herhalingscursus,EHBO-cursus Groningen
END:VEVENT
BEGIN:VEVENT
DTSTART;TZID=Europe/Amsterdam:20250702T120000
DTEND;TZID=Europe/Amsterdam:20250702T150000
DTSTAMP:20260422T104150
CREATED:20240828T111259Z
LAST-MODIFIED:20241014T163744Z
UID:10003131-1751457600-1751468400@www.aed-professionals.nl
SUMMARY:EHBO- & AED cursus Amsterdam
DESCRIPTION:
URL:https://www.aed-professionals.nl/training/ehbo-aed-cursus-amsterdam-11/
LOCATION:Amsterdam\, clubhuis a.s.c. de Volewijckers in Amsterdam\, Baron de Coubertinlaan 6\, Amsterdam\, 1034ZK
CATEGORIES:EHBO & AED-cursus,EHBO herhalingscursus,EHBO-cursus Amsterdam
END:VEVENT
BEGIN:VEVENT
DTSTART;TZID=Europe/Amsterdam:20250703T090000
DTEND;TZID=Europe/Amsterdam:20250703T120000
DTSTAMP:20260422T104150
CREATED:20240828T111547Z
LAST-MODIFIED:20241014T163854Z
UID:10003133-1751533200-1751544000@www.aed-professionals.nl
SUMMARY:EHBO- & AED cursus Weesp
DESCRIPTION:
URL:https://www.aed-professionals.nl/training/ehbo-aed-cursus-weesp-11/
LOCATION:Weesp – WVGV\, Papelaan 126b\, Weesp\, 1382 RP
CATEGORIES:EHBO & AED-cursus,EHBO herhalingscursus,EHBO- cursus Weesp,EHBO-cursus Amsterdam
END:VEVENT
BEGIN:VEVENT
DTSTART;TZID=Europe/Amsterdam:20250707T090000
DTEND;TZID=Europe/Amsterdam:20250707T120000
DTSTAMP:20260422T104150
CREATED:20250421T151052Z
LAST-MODIFIED:20250421T151052Z
UID:10003382-1751878800-1751889600@www.aed-professionals.nl
SUMMARY:EHBO- & AED cursus Groningen
DESCRIPTION:
URL:https://www.aed-professionals.nl/training/ehbo-aed-cursus-groningen-22/
LOCATION:Groningen-Bedum\, Industrieweg 7\, Bedum\, 9781 HB
CATEGORIES:EHBO & AED-cursus,EHBO herhalingscursus,EHBO-cursus Groningen
END:VEVENT
BEGIN:VEVENT
DTSTART;TZID=Europe/Amsterdam:20250708T130000
DTEND;TZID=Europe/Amsterdam:20250708T160000
DTSTAMP:20260422T104150
CREATED:20240828T112227Z
LAST-MODIFIED:20241014T164130Z
UID:10003139-1751979600-1751990400@www.aed-professionals.nl
SUMMARY:EHBO- & AED cursus Utrecht
DESCRIPTION:
URL:https://www.aed-professionals.nl/training/ehbo-aed-cursus-utrecht-7/
LOCATION:Utrecht\, Zonnebaan 9-21\, Utrecht\, 3542 EA
CATEGORIES:EHBO & AED-cursus,EHBO herhalingscursus,EHBO-cursus Utrecht
END:VEVENT
BEGIN:VEVENT
DTSTART;TZID=Europe/Amsterdam:20250710T090000
DTEND;TZID=Europe/Amsterdam:20250710T120000
DTSTAMP:20260422T104150
CREATED:20250421T151321Z
LAST-MODIFIED:20250421T151321Z
UID:10003385-1752138000-1752148800@www.aed-professionals.nl
SUMMARY:EHBO- & AED cursus Groningen
DESCRIPTION:
URL:https://www.aed-professionals.nl/training/ehbo-aed-cursus-groningen-23/
LOCATION:Groningen-Bedum\, Industrieweg 7\, Bedum\, 9781 HB
CATEGORIES:EHBO & AED-cursus,EHBO herhalingscursus,EHBO-cursus Groningen
END:VEVENT
BEGIN:VEVENT
DTSTART;TZID=Europe/Amsterdam:20250818T090000
DTEND;TZID=Europe/Amsterdam:20250818T120000
DTSTAMP:20260422T104150
CREATED:20240828T114514Z
LAST-MODIFIED:20241014T164329Z
UID:10003145-1755507600-1755518400@www.aed-professionals.nl
SUMMARY:EHBO- & AED cursus Uden
DESCRIPTION:
URL:https://www.aed-professionals.nl/training/ehbo-aed-cursus-uden-2/
LOCATION:Brabant- Uden\, Frontstraat 2\, Uden\, 5405 PB
CATEGORIES:EHBO & AED-cursus,EHBO cursus Uden,EHBO herhalingscursus
END:VEVENT
BEGIN:VEVENT
DTSTART;TZID=Europe/Amsterdam:20250821T090000
DTEND;TZID=Europe/Amsterdam:20250821T120000
DTSTAMP:20260422T104150
CREATED:20240828T115722Z
LAST-MODIFIED:20241014T164446Z
UID:10003148-1755766800-1755777600@www.aed-professionals.nl
SUMMARY:EHBO- & AED cursus Weert
DESCRIPTION:
URL:https://www.aed-professionals.nl/training/ehbo-aed-cursus-weert-6/
LOCATION:Limburg- Weert\, Graafschap Hornelaan 180\, Weert\, 6004 HT
CATEGORIES:EHBO & AED-cursus,EHBO herhalingscursus,EHBO-cursus Limburg
END:VEVENT
BEGIN:VEVENT
DTSTART;TZID=Europe/Amsterdam:20250829T120000
DTEND;TZID=Europe/Amsterdam:20250829T150000
DTSTAMP:20260422T104150
CREATED:20240828T120204Z
LAST-MODIFIED:20241014T165954Z
UID:10003151-1756468800-1756479600@www.aed-professionals.nl
SUMMARY:EHBO- & AED cursus Amsterdam
DESCRIPTION:
URL:https://www.aed-professionals.nl/training/ehbo-aed-cursus-amsterdam-13/
LOCATION:Amsterdam\, clubhuis a.s.c. de Volewijckers in Amsterdam\, Baron de Coubertinlaan 6\, Amsterdam\, 1034ZK
CATEGORIES:EHBO & AED-cursus,EHBO herhalingscursus,EHBO- cursus Weesp,EHBO-cursus Amsterdam
END:VEVENT
BEGIN:VEVENT
DTSTART;TZID=Europe/Amsterdam:20250903T090000
DTEND;TZID=Europe/Amsterdam:20250903T120000
DTSTAMP:20260422T104150
CREATED:20250524T072124Z
LAST-MODIFIED:20250524T072124Z
UID:10003396-1756890000-1756900800@www.aed-professionals.nl
SUMMARY:EHBO- & AED cursus Groningen
DESCRIPTION:
URL:https://www.aed-professionals.nl/training/ehbo-aed-cursus-groningen-24/
LOCATION:Groningen-Bedum\, Industrieweg 7\, Bedum\, 9781 HB
CATEGORIES:EHBO & AED-cursus,EHBO herhalingscursus,EHBO-cursus Groningen
END:VEVENT
BEGIN:VEVENT
DTSTART;TZID=Europe/Amsterdam:20250908T090000
DTEND;TZID=Europe/Amsterdam:20250908T120000
DTSTAMP:20260422T104150
CREATED:20250524T072356Z
LAST-MODIFIED:20250524T072356Z
UID:10003399-1757322000-1757332800@www.aed-professionals.nl
SUMMARY:EHBO- & AED cursus Groningen
DESCRIPTION:
URL:https://www.aed-professionals.nl/training/ehbo-aed-cursus-groningen-25/
LOCATION:Groningen-Bedum\, Industrieweg 7\, Bedum\, 9781 HB
CATEGORIES:EHBO & AED-cursus,EHBO cursus Uden,EHBO-cursus Groningen
END:VEVENT
END:VCALENDAR